Workbook
Name _xlfn_IFERROR: #REF!

Sheet 會計報告封面
B1: 115年度臺中市地方產業創新研發推動計畫 (臺中市地方型SBIR )
B2: □ 115年度期中會計報告 □ 115年度結案會計報告
C4: 領域別： | D4: □創新服務 □金屬機械 □民生化工 □生技醫療 □光電資通
B6: <計畫名稱>
B7: 資料期間：民國115年9月1日 至116年5月31日
B9: 計畫主辦單位：臺中市政府經濟發展局
B10: 計畫執行單位：OOOOOOO有限公司
B15: 本公司具結本執行工作報告所填報資料皆屬實，如有不實或虛報，願負一切法律責任
B17: 計畫主持人: | F17: 主辦會計: | I17: 填表人：
I19: （蓋章或簽名並註明日期）

Sheet 計畫經費彙總表
A3: 計畫經費彙總表
A5: 資料期間：自115年09月01日至115年09月30日
A6: 公司名稱： | G6: 計畫名稱： | O6: 金額單位：元
B7: 全程預算數 | E7: 上期累計實支數 | H7: 本期實支數 | K7: 累計實支數 | N7: 結案時填列
A8: 預算科目 | B8: 補助款 | C8: 自籌款 | D8: 小計 | E8: 補助款 | F8: 自籌款 | G8: 小計 | H8: 補助款 | I8: 自籌款 | J8: 小計 | K8: 補助款 | L8: 自籌款 | M8: 小計 | N8: 計畫動支率 | O8: 結餘(繳款)數 (B)
A9: 1.研究發展人員人事費 | D9: =SUM(B9:C9) -> 0 | E9: 0 | F9: 0 | G9: =SUM(E9:F9) -> 0 | H9: =IFERROR(IF(M9>=D9,B9-E9,ROUND(J9*(B9/D9),0)),0) -> 0 | I9: =J9-H9 -> 0 | J9: =研發人員薪資表!M12+顧問費!B8 -> 0 | K9: =E9+H9 -> 0 | L9: =F9+I9 -> 0 | M9: =G9+J9 -> 0 | N9: =IF(B9=0,0,K9/B9) -> 0 | O9: =B9-K9 -> 0
A10: 2.消耗性器材及原材料費 | D10: =SUM(B10:C10) -> 0 | E10: 0 | F10: 0 | G10: =SUM(E10:F10) -> 0 | H10: =IFERROR(IF(M10>=D10,B10-E10,ROUND(J10*(B10/D10),0)),0) -> 0 | I10: =J10-H10 -> 0 | J10: =消耗性器材及原材料費!K10 -> 0 | K10: =E10+H10 -> 0 | L10: =F10+I10 -> 0 | M10: =G10+J10 -> 0 | N10: =IF(B10=0,0,K10/B10) -> 0 | O10: =B10-K10 -> 0
A11: 3.研究發展設備使用費 | D11: =SUM(B11:C11) -> 0 | E11: 0 | F11: 0 | G11: =SUM(E11:F11) -> 0 | H11: =IFERROR(IF(M11>=D11,B11-E11,ROUND(J11*(B11/D11),0)),0) -> 0 | I11: =J11-H11 -> 0 | J11: =研發設備使用費!L8+研發設備使用費!L58 -> 0 | K11: =E11+H11 -> 0 | L11: =F11+I11 -> 0 | M11: =G11+J11 -> 0 | N11: =IF(B11=0,0,K11/B11) -> 0 | O11: =B11-K11 -> 0
A12: 4.研究發展設備維護費 | D12: =SUM(B12:C12) -> 0 | E12: 0 | F12: 0 | G12: =SUM(E12:F12) -> 0 | H12: =IFERROR(IF(M12>=D12,B12-E12,ROUND(J12*(B12/D12),0)),0) -> 0 | I12: =J12-H12 -> 0 | J12: =研發設備維護費!L7 -> 0 | K12: =E12+H12 -> 0 | L12: =F12+I12 -> 0 | M12: =G12+J12 -> 0 | N12: =IF(B12=0,0,K12/B12) -> 0 | O12: =B12-K12 -> 0
A13: 5.技術引進及委託研究費 | D13: =SUM(B13:C13) -> 0 | E13: 0 | F13: 0 | G13: =SUM(E13:F13) -> 0 | H13: =IFERROR(IF(M13>=D13,B13-E13,ROUND(J13*(B13/D13),0)),0) -> 0 | I13: =J13-H13 -> 0 | J13: =技術引進及委託研究費!C48 -> 0 | K13: =E13+H13 -> 0 | L13: =F13+I13 -> 0 | M13: =G13+J13 -> 0 | N13: =IF(B13=0,0,K13/B13) -> 0 | O13: =B13-K13 -> 0
A14: 6.專利申請費 | D14: =SUM(B14:C14) -> 0 | E14: 0 | F14: 0 | G14: =SUM(E14:F14) -> 0 | H14: =IFERROR(IF(M14>=D14,B14-E14,ROUND(J14*(B14/D14),0)),0) -> 0 | I14: =J14-H14 -> 0 | J14: =專利申請費!J10 -> 0 | K14: =E14+H14 -> 0 | L14: =F14+I14 -> 0 | M14: =G14+J14 -> 0 | N14: =IF(B14=0,0,K14/B14) -> 0 | O14: =B14-K14 -> 0
A15: 合 計 | B15: =SUM(B9:B14) -> 0 | C15: =SUM(C9:C14) -> 0 | D15: =SUM(D9:D14) -> 0 | E15: =SUM(E9:E14) -> 0 | F15: =SUM(F9:F14) -> 0 | G15: =SUM(G9:G14) -> 0 | H15: =SUM(H9:H14) -> 0 | I15: =SUM(I9:I14) -> 0 | ... M15: =SUM(M9:M14) -> 0 | N15: =IF(B15=0,0,K15/B15) -> 0 | O15: =B15-K15 -> 0
A16: 補助款累計撥款數 | C16: (期中填) | M16: (結案填) | N16: 預算數尾款撥款數 (A)
A17: 補助款動支率 | B17: =IF(B16=0,0,K15/B16) -> 0 | N17: 執行期間扣款數 (C) | O17: 0
N18: 實際尾款應撥款數 D=(A-B-C) | O18: =O16-O15-O17 -> 0
A19: 註1:本表左半部於期中填報，右側(紅色部份)於結案時加填。
A20: 註2:金額以元為單位。
A21: 註3:「本期實支數」由各科目明細表自動帶入，請於各明細表填列，勿於本表直接輸入。
A22: 註4:「執行期間扣款數」為因執行結果與目標嚴重不符且經審查核定之扣款金額。
A23: 註5:請填寫綠色填滿之欄位，電腦會自動編列小計。
A25: 公司負責人: | E25: 計畫主持人: | H25: 主辦會計: | K25: 填表人：
K26: （請蓋章或簽名並註明日期）
A31: 計畫經費彙總表
A33: 資料期間：自115年09月01日至115年10月31日
A34: =A6 -> 公司名稱：
B35: 全程預算數 | E35: 上期累計實支數 | H35: 本期實支數 | K35: 累計實支數 | N35: 結案時填列
A36: 預算科目 | B36: 補助款 | C36: 自籌款 | D36: 小計 | E36: 補助款 | F36: 自籌款 | G36: 小計 | H36: 補助款 | I36: 自籌款 | J36: 小計 | K36: 補助款 | L36: 自籌款 | M36: 小計 | N36: 計畫動支率 | O36: 結餘(繳款)數 (B)
A37: 1.研究發展人員人事費 | B37: =B9 -> 0 | C37: =C9 -> 0 | D37: =SUM(B37:C37) -> 0 | E37: =K9 -> 0 | F37: =L9 -> 0 | G37: =SUM(E37:F37) -> 0 | H37: =IFERROR(IF(M37>=D37,B37-E37,ROUND(J37*(B37/D37),0)),0) -> 0 | I37: =J37-H37 -> 0 | J37: =研發人員薪資表!M21+顧問費!C8 -> 0 | K37: =E37+H37 -> 0 | L37: =F37+I37 -> 0 | M37: =G37+J37 -> 0 | N37: =IF(B37=0,0,K37/B37) -> 0 | O37: =B37-K37 -> 0
A38: 2.消耗性器材及原材料費 | B38: =B10 -> 0 | C38: =C10 -> 0 | D38: =SUM(B38:C38) -> 0 | E38: =K10 -> 0 | F38: =L10 -> 0 | G38: =SUM(E38:F38) -> 0 | H38: =IFERROR(IF(M38>=D38,B38-E38,ROUND(J38*(B38/D38),0)),0) -> 0 | I38: =J38-H38 -> 0 | J38: =消耗性器材及原材料費!K17 -> 0 | K38: =E38+H38 -> 0 | L38: =F38+I38 -> 0 | M38: =G38+J38 -> 0 | N38: =IF(B38=0,0,K38/B38) -> 0 | O38: =B38-K38 -> 0
A39: 3.研究發展設備使用費 | B39: =B11 -> 0 | C39: =C11 -> 0 | D39: =SUM(B39:C39) -> 0 | E39: =K11 -> 0 | F39: =L11 -> 0 | G39: =SUM(E39:F39) -> 0 | H39: =IFERROR(IF(M39>=D39,B39-E39,ROUND(J39*(B39/D39),0)),0) -> 0 | I39: =J39-H39 -> 0 | J39: =研發設備使用費!L13+研發設備使用費!L62 -> 0 | K39: =E39+H39 -> 0 | L39: =F39+I39 -> 0 | M39: =G39+J39 -> 0 | N39: =IF(B39=0,0,K39/B39) -> 0 | O39: =B39-K39 -> 0
A40: 4.研究發展設備維護費 | B40: =B12 -> 0 | C40: =C12 -> 0 | D40: =SUM(B40:C40) -> 0 | E40: =K12 -> 0 | F40: =L12 -> 0 | G40: =SUM(E40:F40) -> 0 | H40: =IFERROR(IF(M40>=D40,B40-E40,ROUND(J40*(B40/D40),0)),0) -> 0 | I40: =J40-H40 -> 0 | J40: =研發設備維護費!L11 -> 0 | K40: =E40+H40 -> 0 | L40: =F40+I40 -> 0 | M40: =G40+J40 -> 0 | N40: =IF(B40=0,0,K40/B40) -> 0 | O40: =B40-K40 -> 0
A41: 5.技術引進及委託研究費 | B41: =B13 -> 0 | C41: =C13 -> 0 | D41: =SUM(B41:C41) -> 0 | E41: =K13 -> 0 | F41: =L13 -> 0 | G41: =SUM(E41:F41) -> 0 | H41: =IFERROR(IF(M41>=D41,B41-E41,ROUND(J41*(B41/D41),0)),0) -> 0 | I41: =J41-H41 -> 0 | J41: =技術引進及委託研究費!C49 -> 0 | K41: =E41+H41 -> 0 | L41: =F41+I41 -> 0 | M41: =G41+J41 -> 0 | N41: =IF(B41=0,0,K41/B41) -> 0 | O41: =B41-K41 -> 0
A42: 6.專利申請費 | D42: =SUM(B42:C42) -> 0 | E42: =K14 -> 0 | F42: =L14 -> 0 | G42: =SUM(E42:F42) -> 0 | H42: =IFERROR(IF(M42>=D42,B42-E42,ROUND(J42*(B42/D42),0)),0) -> 0 | I42: =J42-H42 -> 0 | J42: =專利申請費!J17 -> 0 | K42: =E42+H42 -> 0 | L42: =F42+I42 -> 0 | M42: =G42+J42 -> 0 | N42: =IF(B42=0,0,K42/B42) -> 0 | O42: =B42-K42 -> 0
A43: 合 計 | B43: =SUM(B37:B42) -> 0 | C43: =SUM(C37:C42) -> 0 | D43: =SUM(D37:D42) -> 0 | E43: =SUM(E37:E42) -> 0 | F43: =SUM(F37:F42) -> 0 | G43: =SUM(G37:G42) -> 0 | H43: =SUM(H37:H42) -> 0 | I43: =SUM(I37:I42) -> 0 | ... M43: =SUM(M37:M42) -> 0 | N43: =IF(B43=0,0,K43/B43) -> 0 | O43: =B43-K43 -> 0
A44: 補助款累計撥款數 | C44: (期中填) | M44: (結案填) | N44: 預算數尾款撥款數 (A)
A45: 補助款動支率 | B45: =IF(B44=0,0,K43/B44) -> 0 | N45: 執行期間扣款數 (C) | O45: 0
N46: 實際尾款應撥款數 D=(A-B-C) | O46: =O44-O43-O45 -> 0
A47: 註1:本表左半部於期中填報，右側(紅色部份)於結案時加填。
A48: 註2:金額以元為單位。
A49: 註3:「本期實支數」由各科目明細表自動帶入，請於各明細表填列，勿於本表直接輸入。
...

Sheet 研發人員薪資表
A1: 研發人員薪資表
A2: =計畫經費彙總表!A6 -> 公司名稱： | M2: 金額單位:元
A3: 姓 名 | B3: 本薪 A | C3: 職務加給或 技術津貼 B | D3: 主管加給 C | E3: 月薪小計 D=A+B+C | F3: 每月可提列之獎金上限 E=D*2/12 | G3: 當月實際 提列之獎金(註2) F | H3: 其他 (於備註3說明) G | I3: 小計 H=D+F+G | J3: 投入比率 (註1) I | K3: 可列入本計畫之薪餉J=H*I | L3: 調整金額 K | M3: 應計入本計畫薪資 L=J+K
A4: 115年09月
A5: =工時記錄表!A5 -> 0 | E5: =SUM(B5:D5) -> 0 | F5: =ROUNDDOWN(E5*2/12,0) -> 0 | I5: =E5+G5+H5 -> 0 | J5: =工時記錄表!AI5 -> 0 | K5: =ROUNDDOWN(I5*J5,0) -> 0 | M5: =SUM(K5:L5) -> 0
A6: =工時記錄表!A6 -> 0 | E6: =SUM(B6:D6) -> 0 | F6: =ROUNDDOWN(E6*2/12,0) -> 0 | I6: =E6+G6+H6 -> 0 | J6: =工時記錄表!AI6 -> 0 | K6: =ROUNDDOWN(I6*J6,0) -> 0 | M6: =SUM(K6:L6) -> 0
A7: =工時記錄表!A7 -> 0 | E7: =SUM(B7:D7) -> 0 | F7: =ROUNDDOWN(E7*2/12,0) -> 0 | I7: =E7+G7+H7 -> 0 | J7: =工時記錄表!AI7 -> 0 | K7: =ROUNDDOWN(I7*J7,0) -> 0 | M7: =SUM(K7:L7) -> 0
A8: =工時記錄表!A8 -> 0 | E8: =SUM(B8:D8) -> 0 | F8: =ROUNDDOWN(E8*2/12,0) -> 0 | I8: =E8+G8+H8 -> 0 | J8: =工時記錄表!AI8 -> 0 | K8: =ROUNDDOWN(I8*J8,0) -> 0 | M8: =SUM(K8:L8) -> 0
A9: =工時記錄表!A9 -> 0 | E9: =SUM(B9:D9) -> 0 | F9: =ROUNDDOWN(E9*2/12,0) -> 0 | I9: =E9+G9+H9 -> 0 | J9: =工時記錄表!AI9 -> 0 | K9: =ROUNDDOWN(I9*J9,0) -> 0 | M9: =SUM(K9:L9) -> 0
A10: =工時記錄表!A10 -> 0 | E10: =SUM(B10:D10) -> 0 | F10: =ROUNDDOWN(E10*2/12,0) -> 0 | I10: =E10+G10+H10 -> 0 | J10: =工時記錄表!AI10 -> 0 | K10: =ROUNDDOWN(I10*J10,0) -> 0 | M10: =SUM(K10:L10) -> 0
A11: =工時記錄表!A11 -> 0 | E11: =SUM(B11:D11) -> 0 | F11: =ROUNDDOWN(E11*2/12,0) -> 0 | I11: =E11+G11+H11 -> 0 | J11: =工時記錄表!AI11 -> 0 | K11: =ROUNDDOWN(I11*J11,0) -> 0 | M11: =SUM(K11:L11) -> 0
A12: 小計 | B12: =SUM(B5:B11) -> 0 | C12: =SUM(C5:C11) -> 0 | D12: =SUM(D5:D11) -> 0 | E12: =SUM(B12:D12) -> 0 | F12: =SUM(F5:F11) -> 0 | G12: =SUM(G5:G11) -> 0 | H12: =SUM(H5:H11) -> 0 | I12: =SUM(I5:I11) -> 0 | J12: =SUM(J5:J11) -> 0 | K12: =SUM(K5:K11) -> 0 | L12: =SUM(L5:L11) -> 0 | M12: =SUM(M5:M11) -> 0
A13: 115年10月
A14: =工時記錄表!A14 -> 0 | E14: =SUM(B14:D14) -> 0 | F14: =ROUNDDOWN(E14*2/12,0) -> 0 | I14: =E14+G14+H14 -> 0 | J14: =工時記錄表!AI14 -> 0 | K14: =ROUNDDOWN(I14*J14,0) -> 0 | M14: =K14+L14 -> 0
A15: =工時記錄表!A15 -> 0 | E15: =SUM(B15:D15) -> 0 | F15: =ROUNDDOWN(E15*2/12,0) -> 0 | I15: =E15+G15+H15 -> 0 | J15: =工時記錄表!AI15 -> 0 | K15: =ROUNDDOWN(I15*J15,0) -> 0 | M15: =K15+L15 -> 0
A16: =工時記錄表!A16 -> 0 | E16: =SUM(B16:D16) -> 0 | F16: =ROUNDDOWN(E16*2/12,0) -> 0 | I16: =E16+G16+H16 -> 0 | J16: =工時記錄表!AI16 -> 0 | K16: =ROUNDDOWN(I16*J16,0) -> 0 | M16: =K16+L16 -> 0
A17: =工時記錄表!A17 -> 0 | E17: =SUM(B17:D17) -> 0 | F17: =ROUNDDOWN(E17*2/12,0) -> 0 | I17: =E17+G17+H17 -> 0 | J17: =工時記錄表!AI17 -> 0 | K17: =ROUNDDOWN(I17*J17,0) -> 0 | M17: =K17+L17 -> 0
A18: =工時記錄表!A18 -> 0 | E18: =SUM(B18:D18) -> 0 | F18: =ROUNDDOWN(E18*2/12,0) -> 0 | I18: =E18+G18+H18 -> 0 | J18: =工時記錄表!AI18 -> 0 | K18: =ROUNDDOWN(I18*J18,0) -> 0 | M18: =K18+L18 -> 0
A19: =工時記錄表!A19 -> 0 | E19: =SUM(B19:D19) -> 0 | F19: =ROUNDDOWN(E19*2/12,0) -> 0 | I19: =E19+G19+H19 -> 0 | J19: =工時記錄表!AI19 -> 0 | K19: =ROUNDDOWN(I19*J19,0) -> 0 | M19: =K19+L19 -> 0
A20: =工時記錄表!A20 -> 0 | E20: =SUM(B20:D20) -> 0 | F20: =ROUNDDOWN(E20*2/12,0) -> 0 | I20: =E20+G20+H20 -> 0 | J20: =工時記錄表!AI20 -> 0 | K20: =ROUNDDOWN(I20*J20,0) -> 0 | M20: =K20+L20 -> 0
A21: 小計 | B21: =SUM(B14:B20) -> 0 | C21: =SUM(C14:C20) -> 0 | D21: =SUM(D14:D20) -> 0 | E21: =SUM(B21:D21) -> 0 | F21: =SUM(F14:F20) -> 0 | G21: =SUM(G14:G20) -> 0 | H21: =SUM(H14:H20) -> 0 | I21: =SUM(I14:I20) -> 0 | J21: =SUM(J14:J20) -> 0 | K21: =SUM(K14:K20) -> 0 | L21: =SUM(L14:L20) -> 0 | M21: =SUM(M14:M20) -> 0
A22: 115年11月
A23: =工時記錄表!A23 -> 0 | E23: =SUM(B23:D23) -> 0 | F23: =ROUNDDOWN(E23*2/12,0) -> 0 | I23: =E23+G23+H23 -> 0 | J23: =工時記錄表!AI23 -> 0 | K23: =ROUNDDOWN(I23*J23,0) -> 0 | M23: =K23+L23 -> 0
A24: =工時記錄表!A24 -> 0 | E24: =SUM(B24:D24) -> 0 | F24: =ROUNDDOWN(E24*2/12,0) -> 0 | I24: =E24+G24+H24 -> 0 | J24: =工時記錄表!AI24 -> 0 | K24: =ROUNDDOWN(I24*J24,0) -> 0 | M24: =K24+L24 -> 0
A25: =工時記錄表!A25 -> 0 | E25: =SUM(B25:D25) -> 0 | F25: =ROUNDDOWN(E25*2/12,0) -> 0 | I25: =E25+G25+H25 -> 0 | J25: =工時記錄表!AI25 -> 0 | K25: =ROUNDDOWN(I25*J25,0) -> 0 | M25: =K25+L25 -> 0
A26: =工時記錄表!A26 -> 0 | E26: =SUM(B26:D26) -> 0 | F26: =ROUNDDOWN(E26*2/12,0) -> 0 | I26: =E26+G26+H26 -> 0 | J26: =工時記錄表!AI26 -> 0 | K26: =ROUNDDOWN(I26*J26,0) -> 0 | M26: =K26+L26 -> 0
A27: =工時記錄表!A27 -> 0 | E27: =SUM(B27:D27) -> 0 | F27: =ROUNDDOWN(E27*2/12,0) -> 0 | I27: =E27+G27+H27 -> 0 | J27: =工時記錄表!AI27 -> 0 | K27: =ROUNDDOWN(I27*J27,0) -> 0 | M27: =K27+L27 -> 0
A28: =工時記錄表!A28 -> 0 | E28: =SUM(B28:D28) -> 0 | F28: =ROUNDDOWN(E28*2/12,0) -> 0 | I28: =E28+G28+H28 -> 0 | J28: =工時記錄表!AI28 -> 0 | K28: =ROUNDDOWN(I28*J28,0) -> 0 | M28: =K28+L28 -> 0
A29: =工時記錄表!A29 -> 0 | E29: =SUM(B29:D29) -> 0 | F29: =ROUNDDOWN(E29*2/12,0) -> 0 | I29: =E29+G29+H29 -> 0 | J29: =工時記錄表!AI29 -> 0 | K29: =ROUNDDOWN(I29*J29,0) -> 0 | M29: =K29+L29 -> 0
A30: 小計 | B30: =SUM(B23:B29) -> 0 | C30: =SUM(C23:C29) -> 0 | D30: =SUM(D23:D29) -> 0 | E30: =SUM(B30:D30) -> 0 | F30: =SUM(F23:F29) -> 0 | G30: =SUM(G23:G29) -> 0 | H30: =SUM(H23:H29) -> 0 | I30: =SUM(I23:I29) -> 0 | J30: =SUM(J23:J29) -> 0 | K30: =SUM(K23:K29) -> 0 | L30: =SUM(L23:L29) -> 0 | M30: =SUM(M23:M29) -> 0
A31: 115年12月
A32: =工時記錄表!A32 -> 0 | E32: =SUM(B32:D32) -> 0 | F32: =ROUNDDOWN(E32*2/12,0) -> 0 | I32: =E32+G32+H32 -> 0 | J32: =工時記錄表!AI32 -> 0 | K32: =ROUNDDOWN(I32*J32,0) -> 0 | M32: =K32+L32 -> 0
A33: =工時記錄表!A33 -> 0 | E33: =SUM(B33:D33) -> 0 | F33: =ROUNDDOWN(E33*2/12,0) -> 0 | I33: =E33+G33+H33 -> 0 | J33: =工時記錄表!AI33 -> 0 | K33: =ROUNDDOWN(I33*J33,0) -> 0 | M33: =K33+L33 -> 0
A34: =工時記錄表!A34 -> 0 | E34: =SUM(B34:D34) -> 0 | F34: =ROUNDDOWN(E34*2/12,0) -> 0 | I34: =E34+G34+H34 -> 0 | J34: =工時記錄表!AI34 -> 0 | K34: =ROUNDDOWN(I34*J34,0) -> 0 | M34: =K34+L34 -> 0
A35: =工時記錄表!A35 -> 0 | E35: =SUM(B35:D35) -> 0 | F35: =ROUNDDOWN(E35*2/12,0) -> 0 | I35: =E35+G35+H35 -> 0 | J35: =工時記錄表!AI35 -> 0 | K35: =ROUNDDOWN(I35*J35,0) -> 0 | M35: =K35+L35 -> 0
A36: =工時記錄表!A36 -> 0 | E36: =SUM(B36:D36) -> 0 | F36: =ROUNDDOWN(E36*2/12,0) -> 0 | I36: =E36+G36+H36 -> 0 | J36: =工時記錄表!AI36 -> 0 | K36: =ROUNDDOWN(I36*J36,0) -> 0 | M36: =K36+L36 -> 0
A37: =工時記錄表!A37 -> 0 | E37: =SUM(B37:D37) -> 0 | F37: =ROUNDDOWN(E37*2/12,0) -> 0 | I37: =E37+G37+H37 -> 0 | J37: =工時記錄表!AI37 -> 0 | K37: =ROUNDDOWN(I37*J37,0) -> 0 | M37: =K37+L37 -> 0
A38: =工時記錄表!A38 -> 0 | E38: =SUM(B38:D38) -> 0 | F38: =ROUNDDOWN(E38*2/12,0) -> 0 | I38: =E38+G38+H38 -> 0 | J38: =工時記錄表!AI38 -> 0 | K38: =ROUNDDOWN(I38*J38,0) -> 0 | M38: =K38+L38 -> 0
A39: 小計 | B39: =SUM(B32:B38) -> 0 | C39: =SUM(C32:C38) -> 0 | D39: =SUM(D32:D38) -> 0 | E39: =SUM(B39:D39) -> 0 | F39: =SUM(F32:F38) -> 0 | G39: =SUM(G32:G38) -> 0 | H39: =SUM(H32:H38) -> 0 | I39: =SUM(I32:I38) -> 0 | J39: =SUM(J32:J38) -> 0 | K39: =SUM(K32:K38) -> 0 | L39: =SUM(L32:L38) -> 0 | M39: =SUM(M32:M38) -> 0
A40: 116年01月
...

Sheet 工時記錄表
A1: 工時記錄表
A2: =計畫經費彙總表!A6 -> 公司名稱：
A3: 姓名 | B3: 1 | C3: 2 | D3: 3 | E3: 4 | F3: 5 | G3: 6 | H3: 7 | I3: 8 | J3: 9 | K3: 10 | L3: 11 | M3: 12 | N3: 13 | O3: 14 | P3: 15 | Q3: 16 | R3: 17 | S3: 18 | T3: 19 | U3: 20 | V3: 21 | W3: 22 | X3: 23 | Y3: 24 | Z3: 25 | AA3: 26 | AB3: 27 | AC3: 28 | AD3: 29 | AE3: 30 | AF3: 31 | AG3: 合計 | AH3: 當月正常上班總時數 | AI3: 投入 比率 | AJ3: 簽名欄 (親簽)
A4: 115年09月
AG5: =SUM(B5:AF5) -> 0 | AI5: =IF(AND(AG5>0,AH5>0),IF((AG5/AH5)>1,1,(ROUNDDOWN(AG5/AH5,2))),0) -> 0
AG6: =SUM(B6:AF6) -> 0 | AI6: =IF(AND(AG6>0,AH6>0),IF((AG6/AH6)>1,1,(ROUNDDOWN(AG6/AH6,2))),0) -> 0
AG7: =SUM(B7:AF7) -> 0 | AI7: =IF(AND(AG7>0,AH7>0),IF((AG7/AH7)>1,1,(ROUNDDOWN(AG7/AH7,2))),0) -> 0
AG8: =SUM(B8:AF8) -> 0 | AI8: =IF(AND(AG8>0,AH8>0),IF((AG8/AH8)>1,1,(ROUNDDOWN(AG8/AH8,2))),0) -> 0
AG9: =SUM(B9:AF9) -> 0 | AI9: =IF(AND(AG9>0,AH9>0),IF((AG9/AH9)>1,1,(ROUNDDOWN(AG9/AH9,2))),0) -> 0
AG10: =SUM(B10:AF10) -> 0 | AI10: =IF(AND(AG10>0,AH10>0),IF((AG10/AH10)>1,1,(ROUNDDOWN(AG10/AH10,2))),0) -> 0
AG11: =SUM(B11:AF11) -> 0 | AI11: =IF(AND(AG11>0,AH11>0),IF((AG11/AH11)>1,1,(ROUNDDOWN(AG11/AH11,2))),0) -> 0
A12: 小計 | B12: =SUM(B5:B11) -> 0 | C12: =SUM(C5:C11) -> 0 | D12: =SUM(D5:D11) -> 0 | E12: =SUM(E5:E11) -> 0 | F12: =SUM(F5:F11) -> 0 | G12: =SUM(G5:G11) -> 0 | H12: =SUM(H5:H11) -> 0 | I12: =SUM(I5:I11) -> 0 | ... AG12: =SUM(AG5:AG11) -> 0 | AI12: =SUM(AI5:AI11) -> 0
A13: 115年10月
AG14: =SUM(B14:AF14) -> 0 | AI14: =IF(AND(AG14>0,AH14>0),IF((AG14/AH14)>1,1,(ROUNDDOWN(AG14/AH14,2))),0) -> 0
AG15: =SUM(B15:AF15) -> 0 | AI15: =IF(AND(AG15>0,AH15>0),IF((AG15/AH15)>1,1,(ROUNDDOWN(AG15/AH15,2))),0) -> 0
AG16: =SUM(B16:AF16) -> 0 | AI16: =IF(AND(AG16>0,AH16>0),IF((AG16/AH16)>1,1,(ROUNDDOWN(AG16/AH16,2))),0) -> 0
AG17: =SUM(B17:AF17) -> 0 | AI17: =IF(AND(AG17>0,AH17>0),IF((AG17/AH17)>1,1,(ROUNDDOWN(AG17/AH17,2))),0) -> 0
AG18: =SUM(B18:AF18) -> 0 | AI18: =IF(AND(AG18>0,AH18>0),IF((AG18/AH18)>1,1,(ROUNDDOWN(AG18/AH18,2))),0) -> 0
AG19: =SUM(B19:AF19) -> 0 | AI19: =IF(AND(AG19>0,AH19>0),IF((AG19/AH19)>1,1,(ROUNDDOWN(AG19/AH19,2))),0) -> 0
AG20: =SUM(B20:AF20) -> 0 | AI20: =IF(AND(AG20>0,AH20>0),IF((AG20/AH20)>1,1,(ROUNDDOWN(AG20/AH20,2))),0) -> 0
A21: 小計 | B21: =SUM(B14:B20) -> 0 | C21: =SUM(C14:C20) -> 0 | D21: =SUM(D14:D20) -> 0 | E21: =SUM(E14:E20) -> 0 | F21: =SUM(F14:F20) -> 0 | G21: =SUM(G14:G20) -> 0 | H21: =SUM(H14:H20) -> 0 | I21: =SUM(I14:I20) -> 0 | ... AG21: =SUM(AG14:AG20) -> 0 | AI21: =SUM(AI14:AI20) -> 0
A22: 115年11月
AG23: =SUM(B23:AF23) -> 0 | AI23: =IF(AND(AG23>0,AH23>0),IF((AG23/AH23)>1,1,(ROUNDDOWN(AG23/AH23,2))),0) -> 0
AG24: =SUM(B24:AF24) -> 0 | AI24: =IF(AND(AG24>0,AH24>0),IF((AG24/AH24)>1,1,(ROUNDDOWN(AG24/AH24,2))),0) -> 0
AG25: =SUM(B25:AF25) -> 0 | AI25: =IF(AND(AG25>0,AH25>0),IF((AG25/AH25)>1,1,(ROUNDDOWN(AG25/AH25,2))),0) -> 0
AG26: =SUM(B26:AF26) -> 0 | AI26: =IF(AND(AG26>0,AH26>0),IF((AG26/AH26)>1,1,(ROUNDDOWN(AG26/AH26,2))),0) -> 0
AG27: =SUM(B27:AF27) -> 0 | AI27: =IF(AND(AG27>0,AH27>0),IF((AG27/AH27)>1,1,(ROUNDDOWN(AG27/AH27,2))),0) -> 0
AG28: =SUM(B28:AF28) -> 0 | AI28: =IF(AND(AG28>0,AH28>0),IF((AG28/AH28)>1,1,(ROUNDDOWN(AG28/AH28,2))),0) -> 0
AG29: =SUM(B29:AF29) -> 0 | AI29: =IF(AND(AG29>0,AH29>0),IF((AG29/AH29)>1,1,(ROUNDDOWN(AG29/AH29,2))),0) -> 0
A30: 小計 | B30: =SUM(B23:B29) -> 0 | C30: =SUM(C23:C29) -> 0 | D30: =SUM(D23:D29) -> 0 | E30: =SUM(E23:E29) -> 0 | F30: =SUM(F23:F29) -> 0 | G30: =SUM(G23:G29) -> 0 | H30: =SUM(H23:H29) -> 0 | I30: =SUM(I23:I29) -> 0 | ... AG30: =SUM(AG23:AG29) -> 0 | AI30: =SUM(AI23:AI29) -> 0
A31: 115年12月
AG32: =SUM(B32:AF32) -> 0 | AI32: =IF(AND(AG32>0,AH32>0),IF((AG32/AH32)>1,1,(ROUNDDOWN(AG32/AH32,2))),0) -> 0
AG33: =SUM(B33:AF33) -> 0 | AI33: =IF(AND(AG33>0,AH33>0),IF((AG33/AH33)>1,1,(ROUNDDOWN(AG33/AH33,2))),0) -> 0
AG34: =SUM(B34:AF34) -> 0 | AI34: =IF(AND(AG34>0,AH34>0),IF((AG34/AH34)>1,1,(ROUNDDOWN(AG34/AH34,2))),0) -> 0
AG35: =SUM(B35:AF35) -> 0 | AI35: =IF(AND(AG35>0,AH35>0),IF((AG35/AH35)>1,1,(ROUNDDOWN(AG35/AH35,2))),0) -> 0
AG36: =SUM(B36:AF36) -> 0 | AI36: =IF(AND(AG36>0,AH36>0),IF((AG36/AH36)>1,1,(ROUNDDOWN(AG36/AH36,2))),0) -> 0
AG37: =SUM(B37:AF37) -> 0 | AI37: =IF(AND(AG37>0,AH37>0),IF((AG37/AH37)>1,1,(ROUNDDOWN(AG37/AH37,2))),0) -> 0
AG38: =SUM(B38:AF38) -> 0 | AI38: =IF(AND(AG38>0,AH38>0),IF((AG38/AH38)>1,1,(ROUNDDOWN(AG38/AH38,2))),0) -> 0
A39: 小計 | B39: =SUM(B32:B38) -> 0 | C39: =SUM(C32:C38) -> 0 | D39: =SUM(D32:D38) -> 0 | E39: =SUM(E32:E38) -> 0 | F39: =SUM(F32:F38) -> 0 | G39: =SUM(G32:G38) -> 0 | H39: =SUM(H32:H38) -> 0 | I39: =SUM(I32:I38) -> 0 | ... AG39: =SUM(AG32:AG38) -> 0 | AI39: =SUM(AI32:AI38) -> 0
A40: 116年01月
...

Sheet 顧問費
A1: 顧問費
A2: =計畫經費彙總表!A6 -> 公司名稱： | K2: 金額單位:元
A3: 姓名 | B3: 115年09月 | C3: 115年10月 | D3: 115年11月 | E3: 115年12月 | F3: 116年01月 | G3: 116年02月 | H3: 116年03月 | I3: 116年04月 | J3: 116年05月 | K3: 合 計
A4: 1.蔡○○ | K4: =SUM(B4:J4) -> 0
A5: 2.楊○○ | K5: =SUM(B5:J5) -> 0
K6: =SUM(B6:J6) -> 0
K7: =SUM(B7:J7) -> 0
A8: 合 計 | B8: =SUM(B4:B7) -> 0 | C8: =SUM(C4:C7) -> 0 | D8: =SUM(D4:D7) -> 0 | E8: =SUM(E4:E7) -> 0 | F8: =SUM(F4:F7) -> 0 | G8: =SUM(G4:G7) -> 0 | H8: =SUM(H4:H7) -> 0 | I8: =SUM(I4:I7) -> 0 | J8: =SUM(J4:J7) -> 0 | K8: =SUM(B8:J8) -> 0
A10: 備註:
A11: 1、 | B11: 帳務查核時應備妥下列文件：
B12: ①領款收據（應書明受領事由、受領人名、地址、身份證字號，由受領人簽名或蓋章）
B13: ②支票存根、銀行轉帳記錄、匯款單。
B14: ③入帳傳票。
B15: ④顧問任職單位同意函。
B16: ⑤顧問115年度勞務所得扣繳憑單，或116年度所得扣繳申報切結聲明書。

Sheet 消耗性器材及原材料費
A1: 消耗性器材及原材料費
A2: =計畫經費彙總表!A6 -> 公司名稱： | L2: 金額單位:元
A3: 支付日期 | B3: 傳票號碼 | C3: 發票、收據(領料)日期 | D3: 發票、收據(領料)號碼 | E3: 供應商 | F3: 發票所列品名 | G3: 對照計畫書所列項目 | H3: 數量 | I3: 單位 | J3: 單價 (不含稅) | K3: 金額 (不含稅) | L3: 付款方式
A4: 115年09月
K5: =ROUNDDOWN(H5*J5,0) -> 0
K6: =ROUNDDOWN(H6*J6,0) -> 0
K7: =ROUNDDOWN(H7*J7,0) -> 0
K8: =ROUNDDOWN(H8*J8,0) -> 0
K9: =ROUNDDOWN(H9*J9,0) -> 0
A10: 小計 | K10: =SUM(K5:K9) -> 0
A11: 115年10月
K12: =ROUNDDOWN(H12*J12,0) -> 0
K13: =ROUNDDOWN(H13*J13,0) -> 0
K14: =ROUNDDOWN(H14*J14,0) -> 0
K15: =ROUNDDOWN(H15*J15,0) -> 0
K16: =ROUNDDOWN(H16*J16,0) -> 0
A17: 小計 | K17: =SUM(K12:K16) -> 0
A18: 115年11月
K19: =ROUNDDOWN(H19*J19,0) -> 0
K20: =ROUNDDOWN(H20*J20,0) -> 0
K21: =ROUNDDOWN(H21*J21,0) -> 0
K22: =ROUNDDOWN(H22*J22,0) -> 0
K23: =ROUNDDOWN(H23*J23,0) -> 0
A24: 小計 | K24: =SUM(K19:K23) -> 0
A25: 115年12月
K26: =ROUNDDOWN(H26*J26,0) -> 0
K27: =ROUNDDOWN(H27*J27,0) -> 0
K28: =ROUNDDOWN(H28*J28,0) -> 0
K29: =ROUNDDOWN(H29*J29,0) -> 0
K30: =ROUNDDOWN(H30*J30,0) -> 0
A31: 小計 | K31: =SUM(K26:K30) -> 0
A32: 116年01月
K33: =ROUNDDOWN(H33*J33,0) -> 0
K34: =ROUNDDOWN(H34*J34,0) -> 0
K35: =ROUNDDOWN(H35*J35,0) -> 0
K36: =ROUNDDOWN(H36*J36,0) -> 0
K37: =ROUNDDOWN(H37*J37,0) -> 0
A38: 小計 | K38: =SUM(K33:K37) -> 0
A39: 116年02月
K40: =ROUNDDOWN(H40*J40,0) -> 0
...

Sheet 研發設備使用費
B1: 研發設備使用費(1)---已有設備
B2: =計畫經費彙總表!A6 -> 公司名稱： | L2: 金額單位:元
B3: 財產編號 | C3: 設備名稱 | D3: 對照計畫書所列項目 | E3: 取得日期 | F3: 購入成本 (單套) | G3: 套數 A1 | H3: 投入時 單套帳面價值 （未折減餘額） A2 | I3: 剩餘使用月數 A3 | J3: 每月攤提使用費 A4=A1×A2÷A3 (詳如註3) | K3: 本期投入比率 A5 | L3: 本期使用費 A6=A4*A5
B4: 115年09月
J5: =IF(I5=0,0,ROUND(G5*H5/I5,0)) -> 0 | K5: =研發設備使用記錄表!AK5 -> 0 | L5: =ROUNDDOWN(J5*K5,0) -> 0
J6: =IF(I6=0,0,ROUND(G6*H6/I6,0)) -> 0 | K6: =研發設備使用記錄表!AK6 -> 0 | L6: =ROUNDDOWN(J6*K6,0) -> 0
J7: =IF(I7=0,0,ROUND(G7*H7/I7,0)) -> 0 | K7: =研發設備使用記錄表!AK7 -> 0 | L7: =ROUNDDOWN(J7*K7,0) -> 0
B8: 小計 | J8: =SUM(J5:J7) -> 0 | K8: =SUM(K5:K7) -> 0 | L8: =SUM(L5:L7) -> 0
B9: 115年10月
J10: =IF(I10=0,0,ROUND(G10*H10/I10,0)) -> 0 | K10: =研發設備使用記錄表!AK9 -> 0 | L10: =ROUNDDOWN(J10*K10,0) -> 0
J11: =IF(I11=0,0,ROUND(G11*H11/I11,0)) -> 0 | K11: =研發設備使用記錄表!AK10 -> 0 | L11: =ROUNDDOWN(J11*K11,0) -> 0
J12: =IF(I12=0,0,ROUND(G12*H12/I12,0)) -> 0 | K12: =研發設備使用記錄表!AK11 -> 0 | L12: =ROUNDDOWN(J12*K12,0) -> 0
B13: 小計 | J13: =SUM(J10:J12) -> 0 | K13: =SUM(K10:K12) -> 0 | L13: =SUM(L10:L12) -> 0
B14: 115年11月
J15: =IF(I15=0,0,ROUND(G15*H15/I15,0)) -> 0 | K15: =研發設備使用記錄表!AK13 -> 0 | L15: =ROUNDDOWN(J15*K15,0) -> 0
J16: =IF(I16=0,0,ROUND(G16*H16/I16,0)) -> 0 | K16: =研發設備使用記錄表!AK14 -> 0 | L16: =ROUNDDOWN(J16*K16,0) -> 0
J17: =IF(I17=0,0,ROUND(G17*H17/I17,0)) -> 0 | K17: =研發設備使用記錄表!AK15 -> 0 | L17: =ROUNDDOWN(J17*K17,0) -> 0
B18: 小計 | J18: =SUM(J15:J17) -> 0 | K18: =SUM(K15:K17) -> 0 | L18: =SUM(L15:L17) -> 0
B19: 115年12月
J20: =IF(I20=0,0,ROUND(G20*H20/I20,0)) -> 0 | K20: =研發設備使用記錄表!AK17 -> 0 | L20: =ROUNDDOWN(J20*K20,0) -> 0
J21: =IF(I21=0,0,ROUND(G21*H21/I21,0)) -> 0 | K21: =研發設備使用記錄表!AK18 -> 0 | L21: =ROUNDDOWN(J21*K21,0) -> 0
J22: =IF(I22=0,0,ROUND(G22*H22/I22,0)) -> 0 | K22: =研發設備使用記錄表!AK19 -> 0 | L22: =ROUNDDOWN(J22*K22,0) -> 0
B23: 小計 | J23: =SUM(J20:J22) -> 0 | K23: =SUM(K20:K22) -> 0 | L23: =SUM(L20:L22) -> 0
B24: 116年01月
J25: =IF(I25=0,0,ROUND(G25*H25/I25,0)) -> 0 | K25: =研發設備使用記錄表!AK21 -> 0 | L25: =ROUNDDOWN(J25*K25,0) -> 0
J26: =IF(I26=0,0,ROUND(G26*H26/I26,0)) -> 0 | K26: =研發設備使用記錄表!AK22 -> 0 | L26: =ROUNDDOWN(J26*K26,0) -> 0
J27: =IF(I27=0,0,ROUND(G27*H27/I27,0)) -> 0 | K27: =研發設備使用記錄表!AK23 -> 0 | L27: =ROUNDDOWN(J27*K27,0) -> 0
B28: 小計 | J28: =SUM(J25:J27) -> 0 | K28: =SUM(K25:K27) -> 0 | L28: =SUM(L25:L27) -> 0
B29: 116年02月
J30: =IF(I30=0,0,ROUND(G30*H30/I30,0)) -> 0 | K30: =研發設備使用記錄表!AK25 -> 0 | L30: =ROUNDDOWN(J30*K30,0) -> 0
J31: =IF(I31=0,0,ROUND(G31*H31/I31,0)) -> 0 | K31: =研發設備使用記錄表!AK26 -> 0 | L31: =ROUNDDOWN(J31*K31,0) -> 0
J32: =IF(I32=0,0,ROUND(G32*H32/I32,0)) -> 0 | K32: =研發設備使用記錄表!AK27 -> 0 | L32: =ROUNDDOWN(J32*K32,0) -> 0
B33: 小計 | J33: =SUM(J30:J32) -> 0 | K33: =SUM(K30:K32) -> 0 | L33: =SUM(L30:L32) -> 0
B34: 116年03月
J35: =IF(I35=0,0,ROUND(G35*H35/I35,0)) -> 0 | K35: =研發設備使用記錄表!AK29 -> 0 | L35: =ROUNDDOWN(J35*K35,0) -> 0
J36: =IF(I36=0,0,ROUND(G36*H36/I36,0)) -> 0 | K36: =研發設備使用記錄表!AK30 -> 0 | L36: =ROUNDDOWN(J36*K36,0) -> 0
J37: =IF(I37=0,0,ROUND(G37*H37/I37,0)) -> 0 | K37: =研發設備使用記錄表!AK31 -> 0 | L37: =ROUNDDOWN(J37*K37,0) -> 0
B38: 小計 | J38: =SUM(J35:J37) -> 0 | K38: =SUM(K35:K37) -> 0 | L38: =SUM(L35:L37) -> 0
B39: 116年04月
J40: =IF(I40=0,0,ROUND(G40*H40/I40,0)) -> 0 | K40: =研發設備使用記錄表!AK33 -> 0 | L40: =ROUNDDOWN(J40*K40,0) -> 0
...

Sheet 研發設備使用記錄表
B1: 研發設備使用記錄表-已有設備
B2: =計畫經費彙總表!A6 -> 公司名稱：
B3: 財產編號 | C3: 設備名稱 | D3: 1 | E3: 2 | F3: 3 | G3: 4 | H3: 5 | I3: 6 | J3: 7 | K3: 8 | L3: 9 | M3: 10 | N3: 11 | O3: 12 | P3: 13 | Q3: 14 | R3: 15 | S3: 16 | T3: 17 | U3: 18 | V3: 19 | W3: 20 | X3: 21 | Y3: 22 | Z3: 23 | AA3: 24 | AB3: 25 | AC3: 26 | AD3: 27 | AE3: 28 | AF3: 29 | AG3: 30 | AH3: 31 | AI3: 合計 | AJ3: 正常使用時數 | AK3: 投入 比率
B4: 115年09月
AI5: =SUM(D5:AH5) -> 0 | AK5: =IF(AND(AI5>0,AJ5>0),IF((AI5/AJ5)>1,1,(ROUNDDOWN(AI5/AJ5,2))),0) -> 0
AI6: =SUM(D6:AH6) -> 0 | AK6: =IF(AND(AI6>0,AJ6>0),IF((AI6/AJ6)>1,1,(ROUNDDOWN(AI6/AJ6,2))),0) -> 0
AI7: =SUM(D7:AH7) -> 0 | AK7: =IF(AND(AI7>0,AJ7>0),IF((AI7/AJ7)>1,1,(ROUNDDOWN(AI7/AJ7,2))),0) -> 0
B8: 115年10月
AI9: =SUM(D9:AH9) -> 0 | AK9: =IF(AND(AI9>0,AJ9>0),IF((AI9/AJ9)>1,1,(ROUNDDOWN(AI9/AJ9,2))),0) -> 0
AI10: =SUM(D10:AH10) -> 0 | AK10: =IF(AND(AI10>0,AJ10>0),IF((AI10/AJ10)>1,1,(ROUNDDOWN(AI10/AJ10,2))),0) -> 0
AI11: =SUM(D11:AH11) -> 0 | AK11: =IF(AND(AI11>0,AJ11>0),IF((AI11/AJ11)>1,1,(ROUNDDOWN(AI11/AJ11,2))),0) -> 0
B12: 115年11月
AI13: =SUM(D13:AH13) -> 0 | AK13: =IF(AND(AI13>0,AJ13>0),IF((AI13/AJ13)>1,1,(ROUNDDOWN(AI13/AJ13,2))),0) -> 0
AI14: =SUM(D14:AH14) -> 0 | AK14: =IF(AND(AI14>0,AJ14>0),IF((AI14/AJ14)>1,1,(ROUNDDOWN(AI14/AJ14,2))),0) -> 0
AI15: =SUM(D15:AH15) -> 0 | AK15: =IF(AND(AI15>0,AJ15>0),IF((AI15/AJ15)>1,1,(ROUNDDOWN(AI15/AJ15,2))),0) -> 0
B16: 115年12月
AI17: =SUM(D17:AH17) -> 0 | AK17: =IF(AND(AI17>0,AJ17>0),IF((AI17/AJ17)>1,1,(ROUNDDOWN(AI17/AJ17,2))),0) -> 0
AI18: =SUM(D18:AH18) -> 0 | AK18: =IF(AND(AI18>0,AJ18>0),IF((AI18/AJ18)>1,1,(ROUNDDOWN(AI18/AJ18,2))),0) -> 0
AI19: =SUM(D19:AH19) -> 0 | AK19: =IF(AND(AI19>0,AJ19>0),IF((AI19/AJ19)>1,1,(ROUNDDOWN(AI19/AJ19,2))),0) -> 0
B20: 116年01月
AI21: =SUM(D21:AH21) -> 0 | AK21: =IF(AND(AI21>0,AJ21>0),IF((AI21/AJ21)>1,1,(ROUNDDOWN(AI21/AJ21,2))),0) -> 0
AI22: =SUM(D22:AH22) -> 0 | AK22: =IF(AND(AI22>0,AJ22>0),IF((AI22/AJ22)>1,1,(ROUNDDOWN(AI22/AJ22,2))),0) -> 0
AI23: =SUM(D23:AH23) -> 0 | AK23: =IF(AND(AI23>0,AJ23>0),IF((AI23/AJ23)>1,1,(ROUNDDOWN(AI23/AJ23,2))),0) -> 0
B24: 116年02月
AI25: =SUM(D25:AH25) -> 0 | AK25: =IF(AND(AI25>0,AJ25>0),IF((AI25/AJ25)>1,1,(ROUNDDOWN(AI25/AJ25,2))),0) -> 0
AI26: =SUM(D26:AH26) -> 0 | AK26: =IF(AND(AI26>0,AJ26>0),IF((AI26/AJ26)>1,1,(ROUNDDOWN(AI26/AJ26,2))),0) -> 0
AI27: =SUM(D27:AH27) -> 0 | AK27: =IF(AND(AI27>0,AJ27>0),IF((AI27/AJ27)>1,1,(ROUNDDOWN(AI27/AJ27,2))),0) -> 0
B28: 116年03月
AI29: =SUM(D29:AH29) -> 0 | AK29: =IF(AND(AI29>0,AJ29>0),IF((AI29/AJ29)>1,1,(ROUNDDOWN(AI29/AJ29,2))),0) -> 0
AI30: =SUM(D30:AH30) -> 0 | AK30: =IF(AND(AI30>0,AJ30>0),IF((AI30/AJ30)>1,1,(ROUNDDOWN(AI30/AJ30,2))),0) -> 0
AI31: =SUM(D31:AH31) -> 0 | AK31: =IF(AND(AI31>0,AJ31>0),IF((AI31/AJ31)>1,1,(ROUNDDOWN(AI31/AJ31,2))),0) -> 0
B32: 116年04月
AI33: =SUM(D33:AH33) -> 0 | AK33: =IF(AND(AI33>0,AJ33>0),IF((AI33/AJ33)>1,1,(ROUNDDOWN(AI33/AJ33,2))),0) -> 0
AI34: =SUM(D34:AH34) -> 0 | AK34: =IF(AND(AI34>0,AJ34>0),IF((AI34/AJ34)>1,1,(ROUNDDOWN(AI34/AJ34,2))),0) -> 0
AI35: =SUM(D35:AH35) -> 0 | AK35: =IF(AND(AI35>0,AJ35>0),IF((AI35/AJ35)>1,1,(ROUNDDOWN(AI35/AJ35,2))),0) -> 0
B36: 116年05月
AI37: =SUM(D37:AH37) -> 0 | AK37: =IF(AND(AI37>0,AJ37>0),IF((AI37/AJ37)>1,1,(ROUNDDOWN(AI37/AJ37,2))),0) -> 0
AI38: =SUM(D38:AH38) -> 0 | AK38: =IF(AND(AI38>0,AJ38>0),IF((AI38/AJ38)>1,1,(ROUNDDOWN(AI38/AJ38,2))),0) -> 0
AI39: =SUM(D39:AH39) -> 0 | AK39: =IF(AND(AI39>0,AJ39>0),IF((AI39/AJ39)>1,1,(ROUNDDOWN(AI39/AJ39,2))),0) -> 0
B40: 合計 | D40: =SUM(D5:D39) -> 0 | E40: =SUM(E5:E39) -> 0 | F40: =SUM(F5:F39) -> 0 | G40: =SUM(G5:G39) -> 0 | H40: =SUM(H5:H39) -> 0 | I40: =SUM(I5:I39) -> 0 | J40: =SUM(J5:J39) -> 0 | K40: =SUM(K5:K39) -> 0 | ... AI40: =SUM(AI5:AI39) -> 0 | AK40: =SUM(AK5:AK39) -> 0
...

Sheet 研發設備維護費
B1: 研發設備維護費
B2: =計畫經費彙總表!A6 -> 公司名稱： | L2: 金額單位:元
B3: 財產編號 | C3: 設備名稱 | D3: 對照計畫書所列項目 | E3: 購入成本 (D) | F3: 傳票日期 | G3: 傳票號碼 | H3: 發票日期 | I3: 品名 | J3: 數量(A) | K3: 單價(B) (不含稅) | L3: 本期維護費 (A×B) | M3: 付款方式
B4: 115年09月
L5: =ROUNDDOWN(J5*K5,0) -> 0
L6: =ROUNDDOWN(J6*K6,0) -> 0
B7: 小計 | L7: =SUM(L5:L6) -> 0
B8: 115年10月
L9: =ROUNDDOWN(J9*K9,0) -> 0
L10: =ROUNDDOWN(J10*K10,0) -> 0
B11: 小計 | L11: =SUM(L9:L10) -> 0
B12: 115年11月
L13: =ROUNDDOWN(J13*K13,0) -> 0
L14: =ROUNDDOWN(J14*K14,0) -> 0
B15: 小計 | L15: =SUM(L13:L14) -> 0
B16: 115年12月
L17: =ROUNDDOWN(J17*K17,0) -> 0
L18: =ROUNDDOWN(J18*K18,0) -> 0
B19: 小計 | L19: =SUM(L17:L18) -> 0
B20: 116年01月
L21: =ROUNDDOWN(J21*K21,0) -> 0
L22: =ROUNDDOWN(J22*K22,0) -> 0
B23: 小計 | L23: =SUM(L21:L22) -> 0
B24: 116年02月
L25: =ROUNDDOWN(J25*K25,0) -> 0
L26: =ROUNDDOWN(J26*K26,0) -> 0
B27: 小計 | L27: =SUM(L25:L26) -> 0
B28: 116年03月
L29: =ROUNDDOWN(J29*K29,0) -> 0
L30: =ROUNDDOWN(J30*K30,0) -> 0
B31: 小計 | L31: =SUM(L29:L30) -> 0
B32: 116年04月
L33: =ROUNDDOWN(J33*K33,0) -> 0
L34: =ROUNDDOWN(J34*K34,0) -> 0
B35: 小計 | L35: =SUM(L33:L34) -> 0
B36: 116年05月
L37: =ROUNDDOWN(J37*K37,0) -> 0
L38: =ROUNDDOWN(J38*K38,0) -> 0
B39: 小計 | L39: =SUM(L37:L38) -> 0
B40: 合 計(A) | L40: =L39+L35+L31+L27+L23+L19+L15+L11+L7 -> 0
...

Sheet 技術引進及委託研究費
B1: 技術引進及委託研究費
B2: =計畫經費彙總表!A6 -> 公司名稱：
B3: 1.技轉(委託)項目名稱 : | F3: 2.技轉(委託)對象：
B4: 3.合約期間: 年月日~年月日 | F4: 4.合約總額：
B5: 5.付款方式： | I5: 金額單位:元
B6: 付款期數 | C6: 傳票日期 | D6: 傳票號碼 | E6: 發票日期 | F6: 發票編號 | G6: 對照計畫書項目名稱 | H6: 金額 | I6: 付款方式 | J6: 支付日期
B7: 第 1 期
B8: 第 2 期
B9: 第 3 期
B10: 合 計 | H10: =SUM(H7:H9) -> 0
B12: 1.技轉(委託)項目名稱 : | F12: 2.技轉(委託)對象：
B13: 3.合約期間: 年月日~年月日 | F13: 4.合約總額：
B14: 5.付款方式： | I14: 金額單位:元
B15: 付款期數 | C15: 傳票日期 | D15: 傳票號碼 | E15: 發票日期 | F15: 發票編號 | G15: 對照計畫書項目名稱 | H15: 金額 | I15: 付款方式 | J15: 支付日期
B16: 第 1 期
B17: 第 2 期
B18: 第 3 期
B19: 合 計 | H19: =SUM(H16:H18) -> 0
B21: 1.技轉(委託)項目名稱 : | F21: 2.技轉(委託)對象：
B22: 3.合約期間: 年月日~年月日 | F22: 4.合約總額：
B23: 5.付款方式： | I23: 金額單位:元
B24: 付款期數 | C24: 傳票日期 | D24: 傳票號碼 | E24: 發票日期 | F24: 發票編號 | G24: 對照計畫書項目名稱 | H24: 金額 | I24: 付款方式 | J24: 支付日期
B25: 第 1 期
B26: 第 2 期
B27: 第 3 期
B28: 合 計 | H28: =SUM(H25:H27) -> 0
B29: 總 計 | H29: =H28+H19+H10 -> 0
B31: 備註：
B32: 1、 | C32: 請依技術引進及委託研究項目分開填寫(每一項目填寫一份)。
B33: 2、 | C33: 所列項目（如：技術、專利權、委託研究、租賃設備等）及金額應與計畫書所列相符，如需變更應來函核定。
B34: 3、 | C34: 委外測試之委託對象應與計畫書所列相符，金額應與原始憑證（如：統一發票或收據）相符。
B35: 4、 | C35: 委託對象、項目及金額應與計畫書一致，不同對象及項目金額不能流用。
B36: 5、 | C36: 「付款憑證」欄位請填寫支票號碼﹐若以匯款方式支付請註明「x月x日匯款」，應於116年6月30日前完成支付(支票兌現)。
B37: 6、 | C37: 營業稅不得報支。
B38: 7、 | C38: 帳務查核時應備妥下列文件：
C39: ①技術引進及委託研究契約書。
C40: ②統一發票（或收據）、或國外之INVOICE(或RECEIPT)及匯兌水單
C41: ③付款支票及銀行對帳單或其他支付證明
C42: ④涉及外幣支付時應附實際付款當時之外幣匯率表
C43: ⑤入帳傳票。
...

Sheet 專利申請費
A1: 專利申請費
A2: =計畫經費彙總表!A6 -> 公司名稱： | K2: 金額單位:元
A3: 支付日期 | B3: 傳票號碼 | C3: 申請國別 | D3: 專利項目名稱 | E3: 對照計畫書所列項目 | F3: 發票/收據日期 | G3: 發票/收據號碼 | H3: 對象 | I3: 費用類別 | J3: 金額 (不含稅) | K3: 付款方式
A4: 115年09月
A10: 小計 | J10: =SUM(J5:J9) -> 0
A11: 115年10月
A17: 小計 | J17: =SUM(J12:J16) -> 0
A18: 115年11月
A24: 小計 | J24: =SUM(J19:J23) -> 0
A25: 115年12月
A31: 小計 | J31: =SUM(J26:J30) -> 0
A32: 116年01月
A38: 小計 | J38: =SUM(J33:J37) -> 0
A39: 116年02月
A45: 小計 | J45: =SUM(J40:J44) -> 0
A46: 116年03月
A52: 小計 | J52: =SUM(J47:J51) -> 0
A53: 116年04月
A59: 小計 | J59: =SUM(J54:J58) -> 0
A60: 116年05月
A66: 小計 | J66: =SUM(J61:J65) -> 0
A67: 合 計 | J67: =J66+J59+J52+J45+J38+J31+J24+J17+J10 -> 0
A70: 備註
A71: 1、 | B71: 「申請國別」、「專利項目名稱」需與計畫書所列之專利申請計畫一致；「對象」請填專利事務所名稱或經濟部智慧財產局；「費用類別」請填官方規費或代理人服務費。
A72: 2、 | B72: 本科目補助範圍以專利申請至獲准階段之必要費用為限（官方申請規費、實體審查規費、國內外代理人費用等）。
A73: 3、 | B73: 維持年費、補呈文件、申復、面詢、請求再審查或繼續審查、申領證書費用、申請前之檢索諮詢評估費用、代理人核駁報導分析及決定放棄答辯之結案費用等，均不予補助。
A74: 4、 | B74: 國內每案補助上限新臺幣3萬元、國外每案補助上限新臺幣10萬元（同一專利名稱視為1案）。
A75: 5、 | B75: 營業稅不得報支。
A76: 6、 | B76: 「付款方式」欄位請填寫支票號碼﹐若以匯款或現金方式支付請註明「yyy.mm.dd匯款」、「yyy.mm.dd付現」，應於計畫執行結束後一個月內完成支付(支票兌現)。
A77: 7、 | B77: 帳務查核時應備妥下列文件：
B78: ①專利申請文件（專利申請書及說明書、國內外官方受理申請文件及專利案件相關佐證資料）。
B79: ②國內申請：經濟部智慧財產局自行收納款項收據。
B80: ③專利事務所之請款單、收據或代收轉代付收據。
B81: ④國外申請：國外代理人或國外官方受理之DEBIT NOTE、INVOICE、RECEIPT。
B82: ⑤涉及外幣支付時應附付款當時之外幣匯率表。
B83: ⑥入帳傳票及付款憑證。
